BEGIN:VCALENDAR
VERSION:2.0
PRODID:-//Bürgerstiftung Oberstedten - ECPv6.15.20//NONSGML v1.0//EN
CALSCALE:GREGORIAN
METHOD:PUBLISH
X-ORIGINAL-URL:https://www.buergerstiftung-oberstedten.de
X-WR-CALDESC:Veranstaltungen für Bürgerstiftung Oberstedten
REFRESH-INTERVAL;VALUE=DURATION:PT1H
X-Robots-Tag:noindex
X-PUBLISHED-TTL:PT1H
BEGIN:VTIMEZONE
TZID:Europe/Berlin
BEGIN:DAYLIGHT
TZOFFSETFROM:+0100
TZOFFSETTO:+0200
TZNAME:CEST
DTSTART:20230326T010000
END:DAYLIGHT
BEGIN:STANDARD
TZOFFSETFROM:+0200
TZOFFSETTO:+0100
TZNAME:CET
DTSTART:20231029T010000
END:STANDARD
BEGIN:DAYLIGHT
TZOFFSETFROM:+0100
TZOFFSETTO:+0200
TZNAME:CEST
DTSTART:20240331T010000
END:DAYLIGHT
BEGIN:STANDARD
TZOFFSETFROM:+0200
TZOFFSETTO:+0100
TZNAME:CET
DTSTART:20241027T010000
END:STANDARD
BEGIN:DAYLIGHT
TZOFFSETFROM:+0100
TZOFFSETTO:+0200
TZNAME:CEST
DTSTART:20250330T010000
END:DAYLIGHT
BEGIN:STANDARD
TZOFFSETFROM:+0200
TZOFFSETTO:+0100
TZNAME:CET
DTSTART:20251026T010000
END:STANDARD
END:VTIMEZONE
BEGIN:VEVENT
DTSTART;TZID=Europe/Berlin:20240224T093000
DTEND;TZID=Europe/Berlin:20240224T170000
DTSTAMP:20260424T155831
CREATED:20231013T130123Z
LAST-MODIFIED:20231106T081521Z
UID:774-1708767000-1708794000@www.buergerstiftung-oberstedten.de
SUMMARY:Obstbaum-Schnitt in Oberstedten
DESCRIPTION:Am Samstag\, 24. Februar 2024 ab 9:30 Uhr bietet die Bürgerstiftung Oberstedten einen Praxistag Obstbaum-Schnitt unter fachmännischer Beratung von Dieter Hoffmann (KGV Oberursel) an. Treffpunkt ist der Äppelpark in Oberstedten gegenüber Rewe Krautweg / Ecke Industriestraße. Ziel ist es die über 30 Bäume fachgerecht zurückzuschneiden. Die Teilnehmer werden gebeten Astscheren und/oder Leitern mitzubringen. \n\n			\n				\n			\n			\n				\n			\n			\n				\n			\n		\n\nAnmeldungen nimmt die Bürgerstiftung Oberstedten unter 0160-97207906 (Michael Planer) oder per Mail michael.planer@buergerstiftung-oberstedten.de an. \nWer mehr über den Äpplepark wissten möchte\, folgt bitte diesem Link!
URL:https://www.buergerstiftung-oberstedten.de/event/obstbaum-schnitt-in-oberstedten/
LOCATION:Äpplerpark\, zwischen Krautweg und Industriestraße\, Oberstedten\, Krautweg / Ecke Industriestraße\, Oberursel - Oberstedten\, Hessen\, 61440\, Deutschland
ORGANIZER;CN="B%C3%BCrgerstiftung Oberstedten":MAILTO:kontakt@buergerstiftung-oberstedten.de
END:VEVENT
END:VCALENDAR